BEGIN:VCALENDAR
VERSION:2.0
PRODID:-//Les Paroisses - ECPv6.15.17.1//NONSGML v1.0//EN
CALSCALE:GREGORIAN
METHOD:PUBLISH
X-ORIGINAL-URL:https://lesparoisses.ch
X-WR-CALDESC:Évènements pour Les Paroisses
REFRESH-INTERVAL;VALUE=DURATION:PT1H
X-Robots-Tag:noindex
X-PUBLISHED-TTL:PT1H
BEGIN:VTIMEZONE
TZID:Europe/Paris
BEGIN:DAYLIGHT
TZOFFSETFROM:+0100
TZOFFSETTO:+0200
TZNAME:CEST
DTSTART:20240331T010000
END:DAYLIGHT
BEGIN:STANDARD
TZOFFSETFROM:+0200
TZOFFSETTO:+0100
TZNAME:CET
DTSTART:20241027T010000
END:STANDARD
BEGIN:DAYLIGHT
TZOFFSETFROM:+0100
TZOFFSETTO:+0200
TZNAME:CEST
DTSTART:20250330T010000
END:DAYLIGHT
BEGIN:STANDARD
TZOFFSETFROM:+0200
TZOFFSETTO:+0100
TZNAME:CET
DTSTART:20251026T010000
END:STANDARD
BEGIN:DAYLIGHT
TZOFFSETFROM:+0100
TZOFFSETTO:+0200
TZNAME:CEST
DTSTART:20260329T010000
END:DAYLIGHT
BEGIN:STANDARD
TZOFFSETFROM:+0200
TZOFFSETTO:+0100
TZNAME:CET
DTSTART:20261025T010000
END:STANDARD
END:VTIMEZONE
BEGIN:VEVENT
DTSTART;TZID=Europe/Paris:20251204T061500
DTEND;TZID=Europe/Paris:20251204T070000
DTSTAMP:20260423T131325
CREATED:20251127T092332Z
LAST-MODIFIED:20251127T092444Z
UID:8989-1764828900-1764831600@lesparoisses.ch
SUMMARY:Messe de l'aurore
DESCRIPTION:Durant le temps de l’Avent\, Au Châble\, messe de l’aurore à la lueur des bougies les jeudis 6h15. \n\n\n\nComme des veilleurs qui se rassemblent\, dans l’attente de la lumière qui point\, dans l’Espérance de la vie qui vient\, dans l’impatience de l’attente de l’Emmanuel\, lumière en nos nuits. \n\n\n\nPremière messe le jeudi 4 décembre pour 11 et 18 décembre
URL:https://lesparoisses.ch/event/messe-de-laurore-4/
LOCATION:Église du Châble\, Chem. de l'Église 15\, Le Châble\, Valais\, 1934\, Suisse
CATEGORIES:Bagnes-Vollèges-Verbier,Noël
ATTACH;FMTTYPE=image/jpeg:https://lesparoisses.ch/wp-content/uploads/2020/12/3emebandeau-1.jpg
ORGANIZER;CN="Les paroisses":MAILTO:info@lesparoisses.ch
END:VEVENT
BEGIN:VEVENT
DTSTART;TZID=Europe/Paris:20251206T173000
DTEND;TZID=Europe/Paris:20251206T183000
DTSTAMP:20260423T131325
CREATED:20251127T093755Z
LAST-MODIFIED:20251127T093757Z
UID:8998-1765042200-1765045800@lesparoisses.ch
SUMMARY:Atelier de la Parole
DESCRIPTION:Pour les enfants de 4 à 11 ans\, durant les messes de l’Avent\, une découverte avec les mots des enfants de l’évangile de la messe.\n\n\n\nDurant les messes de l’Avent\, les enfants suivent un animateur/trice pour découvrir le texte de l’évangile du dimanche avec des mots adaptés et une animation. Ainsi\, ils préparent leur cœur à accueillir la lumière de lumière de Noël\, dimanche après dimanche. \n\n\n\nVenez simplement à la messe avec eux\, et les enfants seront appelés en début de messe pour se rendre dans une salle voisine et revenir à la messe pour la consécration ou le Notre Père. \n\n\n\nAucune inscription n’est nécessaire. \n\n\n\nDates: \n\n\n\n\nSa 6 décembre 17h30 au Châble\n\n\n\nDi 7 décembre 9h30 au Levron\n\n\n\nLu 8 décembre 10h30 au Châble (Immaculée conception de Marie)\n\n\n\nSa 13 décembre 17h30 au Châble \n\n\n\nDi 14 décembre 18h à Vollèges\n\n\n\nSa 20 décembre 17h30 au Châble\n\n\n\nDi 21 décembre 9h30 au Levron
URL:https://lesparoisses.ch/event/atelier-de-la-parole/
LOCATION:Église du Châble\, Chem. de l'Église 15\, Le Châble\, Valais\, 1934\, Suisse
CATEGORIES:Bagnes-Vollèges-Verbier,Enfant,Noël,Sacrements
ATTACH;FMTTYPE=image/jpeg:https://lesparoisses.ch/wp-content/uploads/2021/10/eveil_foi_L.jpg
END:VEVENT
BEGIN:VEVENT
DTSTART;TZID=Europe/Paris:20251207T093000
DTEND;TZID=Europe/Paris:20251207T110000
DTSTAMP:20260423T131325
CREATED:20251127T094907Z
LAST-MODIFIED:20251127T094910Z
UID:9006-1765099800-1765105200@lesparoisses.ch
SUMMARY:Atelier de la Parole - Levron
DESCRIPTION:Pour les enfants de 4 à 11 ans\, durant les messes de l’Avent\, une découverte avec les mots des enfants de l’évangile de la messe.\n\n\n\nDurant les messes de l’Avent\, les enfants suivent un animateur/trice pour découvrir le texte de l’évangile du dimanche avec des mots adaptés et une animation. Ainsi\, ils préparent leur cœur à accueillir la lumière de lumière de Noël\, dimanche après dimanche. \n\n\n\nVenez simplement à la messe avec eux\, et les enfants seront appelés en début de messe pour se rendre dans une salle voisine et revenir à la messe pour la consécration ou le Notre Père. \n\n\n\nAucune inscription n’est nécessaire. \n\n\n\nDates: \n\n\n\n\nDi 7 décembre 9h30 au Levron\n\n\n\nLu 8 décembre 10h30 au Châble (Immaculée conception de Marie)\n\n\n\nDi 14 décembre 18h à Vollèges\n\n\n\nDi 21 décembre 9h30 au Levron
URL:https://lesparoisses.ch/event/atelier-de-la-parole-levron/
LOCATION:Eglise du Levron\, Route de L'Ousse\, Le Levron\, 1942\, Suisse
CATEGORIES:Bagnes-Vollèges-Verbier,Enfant,Évènements,Évènements à la UNE,Noël,Sacrements
ATTACH;FMTTYPE=image/jpeg:https://lesparoisses.ch/wp-content/uploads/2021/10/eveil_foi_L.jpg
END:VEVENT
BEGIN:VEVENT
DTSTART;TZID=Europe/Paris:20251208T103000
DTEND;TZID=Europe/Paris:20251208T120000
DTSTAMP:20260423T131325
CREATED:20251127T094148Z
LAST-MODIFIED:20251127T094151Z
UID:9000-1765189800-1765195200@lesparoisses.ch
SUMMARY:Atelier de la Parole
DESCRIPTION:Pour les enfants de 4 à 11 ans\, durant les messes de l’Avent\, une découverte avec les mots des enfants de l’évangile de la messe.\n\n\n\n\n\n\n\nDurant les messes de l’Avent\, les enfants suivent un animateur/trice pour découvrir le texte de l’évangile du dimanche avec des mots adaptés et une animation. Ainsi\, ils préparent leur cœur à accueillir la lumière de lumière de Noël\, dimanche après dimanche. \n\n\n\nVenez simplement à la messe avec eux\, et les enfants seront appelés en début de messe pour se rendre dans une salle voisine et revenir à la messe pour la consécration ou le Notre Père. \n\n\n\nAucune inscription n’est nécessaire. \n\n\n\nDates: \n\n\n\n\nLu 8 décembre 10h30 au Châble (Immaculée conception de Marie)\n\n\n\nSa 13 décembre 17h30 au Châble \n\n\n\nDi 14 décembre 18h à Vollèges\n\n\n\nSa 20 décembre 17h30 au Châble\n\n\n\nDi 21 décembre 9h30 au Levron
URL:https://lesparoisses.ch/event/atelier-de-la-parole-2/
LOCATION:Église du Châble\, Chem. de l'Église 15\, Le Châble\, Valais\, 1934\, Suisse
CATEGORIES:Bagnes-Vollèges-Verbier,Enfant,Noël,Sacrements
ATTACH;FMTTYPE=image/jpeg:https://lesparoisses.ch/wp-content/uploads/2021/10/eveil_foi_L.jpg
END:VEVENT
BEGIN:VEVENT
DTSTART;TZID=Europe/Paris:20251211T061500
DTEND;TZID=Europe/Paris:20251211T070000
DTSTAMP:20260423T131325
CREATED:20251127T092712Z
LAST-MODIFIED:20251127T092714Z
UID:8992-1765433700-1765436400@lesparoisses.ch
SUMMARY:Messe de l'aurore
DESCRIPTION:Durant le temps de l’Avent\, Au Châble\, messe de l’aurore à la lueur des bougies les jeudis 6h15. \n\n\n\nComme des veilleurs qui se rassemblent\, dans l’attente de la lumière qui point\, dans l’Espérance de la vie qui vient\, dans l’impatience de l’attente de l’Emmanuel\, lumière en nos nuits. \n\n\n\nMesse les jeudis 11 et 18 décembre
URL:https://lesparoisses.ch/event/messe-de-laurore-5/
LOCATION:Église du Châble\, Chem. de l'Église 15\, Le Châble\, Valais\, 1934\, Suisse
CATEGORIES:Bagnes-Vollèges-Verbier,Noël,Prière
ATTACH;FMTTYPE=image/jpeg:https://lesparoisses.ch/wp-content/uploads/2020/12/3emebandeau-1.jpg
ORGANIZER;CN="Les paroisses":MAILTO:info@lesparoisses.ch
END:VEVENT
BEGIN:VEVENT
DTSTART;TZID=Europe/Paris:20251212T140000
DTEND;TZID=Europe/Paris:20251213T173000
DTSTAMP:20260423T131325
CREATED:20251127T100014Z
LAST-MODIFIED:20251127T100018Z
UID:9012-1765548000-1765647000@lesparoisses.ch
SUMMARY:Christmas - Box
DESCRIPTION:Envie de faire une jolie action solidaire ce Noël? Amène un beau cadeau de Noël ou quelques denrées non-périssables les 12 ou 13 décembre.\n\n\n\nLe temps de l’Avent c’est aussi le temps de l’esprit solidaire\, une petite pensée pour ceux qui ont moins. Nous proposons à nouveau cette action concrète: \n\n\n\n\ntu amènes un cadeau bien emballé avec une inscription dessus à qui est destiné le paquet: un homme\, une femme\, une fille de 4-8ans\, un garçon de 7-9ans\, une femme âgée…\n\n\n\nou tu amènes simplement quelques denrées non-périssables \n\n\n\nTu peux encore écrire une petite carte pour accompagner\n\n\n\n\nLe tout est à ramener les après-midis des 12 ou 13 décembre à la Roulette près de l’église du Châble. Des jeunes et confirmands seront là pour vous accueillir et faire les paquets.
URL:https://lesparoisses.ch/event/christmas-box/
LOCATION:Église du Châble\, Chem. de l'Église 15\, Le Châble\, Valais\, 1934\, Suisse
CATEGORIES:Bagnes-Vollèges-Verbier,Confirmation,Évènements,Évènements à la UNE,Jeune,Noël,Solidarité
ATTACH;FMTTYPE=image/jpeg:https://lesparoisses.ch/wp-content/uploads/2020/02/CIG_IMG006.jpg
ORGANIZER;CN="Claire Jonard":MAILTO:claire@lesparoisses.ch
END:VEVENT
BEGIN:VEVENT
DTSTART;TZID=Europe/Paris:20251213T173000
DTEND;TZID=Europe/Paris:20251213T183000
DTSTAMP:20260423T131325
CREATED:20251127T094401Z
LAST-MODIFIED:20251127T094403Z
UID:9002-1765647000-1765650600@lesparoisses.ch
SUMMARY:Atelier de la Parole
DESCRIPTION:Pour les enfants de 4 à 11 ans\, durant les messes de l’Avent\, une découverte avec les mots des enfants de l’évangile de la messe.\n\n\n\nDurant les messes de l’Avent\, les enfants suivent un animateur/trice pour découvrir le texte de l’évangile du dimanche avec des mots adaptés et une animation. Ainsi\, ils préparent leur cœur à accueillir la lumière de lumière de Noël\, dimanche après dimanche. \n\n\n\nVenez simplement à la messe avec eux\, et les enfants seront appelés en début de messe pour se rendre dans une salle voisine et revenir à la messe pour la consécration ou le Notre Père. \n\n\n\nAucune inscription n’est nécessaire. \n\n\n\nDates: \n\n\n\n\nSa 13 décembre 17h30 au Châble \n\n\n\nDi 14 décembre 18h à Vollèges\n\n\n\nSa 20 décembre 17h30 au Châble\n\n\n\nDi 21 décembre 9h30 au Levron
URL:https://lesparoisses.ch/event/atelier-de-la-parole-3/
LOCATION:Église du Châble\, Chem. de l'Église 15\, Le Châble\, Valais\, 1934\, Suisse
CATEGORIES:Bagnes-Vollèges-Verbier,Enfant,Noël,Sacrements
ATTACH;FMTTYPE=image/jpeg:https://lesparoisses.ch/wp-content/uploads/2021/10/eveil_foi_L.jpg
END:VEVENT
BEGIN:VEVENT
DTSTART;TZID=Europe/Paris:20251214T180000
DTEND;TZID=Europe/Paris:20251214T190000
DTSTAMP:20260423T131325
CREATED:20251127T095412Z
LAST-MODIFIED:20251127T095414Z
UID:9010-1765735200-1765738800@lesparoisses.ch
SUMMARY:Atelier de la Parole - Vollèges
DESCRIPTION:Pour les enfants de 4 à 11 ans\, durant les messes de l’Avent\, une découverte avec les mots des enfants de l’évangile de la messe.\n\n\n\nDurant les messes de l’Avent\, les enfants suivent un animateur/trice pour découvrir le texte de l’évangile du dimanche avec des mots adaptés et une animation. Ainsi\, ils préparent leur cœur à accueillir la lumière de lumière de Noël\, dimanche après dimanche. \n\n\n\nVenez simplement à la messe avec eux\, et les enfants seront appelés en début de messe pour se rendre dans une salle voisine et revenir à la messe pour la consécration ou le Notre Père. \n\n\n\nAucune inscription n’est nécessaire. \n\n\n\nDates: \n\n\n\n\nDi 14 décembre 18h à Vollèges\n\n\n\nDi 21 décembre 9h30 au Levron
URL:https://lesparoisses.ch/event/atelier-de-la-parole-volleges/
LOCATION:Église de Vollèges\, église\, Vollèges\, 1941\, Suisse
CATEGORIES:Bagnes-Vollèges-Verbier,Enfant,Noël,Sacrements
ATTACH;FMTTYPE=image/jpeg:https://lesparoisses.ch/wp-content/uploads/2021/10/eveil_foi_L.jpg
ORGANIZER;CN="G%C3%A9rard Puippe":MAILTO:gerard@lesparoisses.ch
END:VEVENT
BEGIN:VEVENT
DTSTART;TZID=Europe/Paris:20251218T061500
DTEND;TZID=Europe/Paris:20251218T070000
DTSTAMP:20260423T131325
CREATED:20251127T092912Z
LAST-MODIFIED:20251127T092914Z
UID:8994-1766038500-1766041200@lesparoisses.ch
SUMMARY:Messe de l'aurore
DESCRIPTION:Durant le temps de l’Avent\, Au Châble\, messe de l’aurore à la lueur des bougies les jeudis 6h15. \n\n\n\nComme des veilleurs qui se rassemblent\, dans l’attente de la lumière qui point\, dans l’Espérance de la vie qui vient\, dans l’impatience de l’attente de l’Emmanuel\, lumière en nos nuits. \n\n\n\nDernière messe le jeudi 18 décembre.
URL:https://lesparoisses.ch/event/messe-de-laurore-6/
LOCATION:Église du Châble\, Chem. de l'Église 15\, Le Châble\, Valais\, 1934\, Suisse
CATEGORIES:Bagnes-Vollèges-Verbier,Noël,Prière
ATTACH;FMTTYPE=image/jpeg:https://lesparoisses.ch/wp-content/uploads/2020/12/3emebandeau-1.jpg
ORGANIZER;CN="Les paroisses":MAILTO:info@lesparoisses.ch
END:VEVENT
BEGIN:VEVENT
DTSTART;TZID=Europe/Paris:20251220T173000
DTEND;TZID=Europe/Paris:20251220T190000
DTSTAMP:20260423T131325
CREATED:20251127T094609Z
LAST-MODIFIED:20251127T094611Z
UID:9004-1766251800-1766257200@lesparoisses.ch
SUMMARY:Atelier de la Parole
DESCRIPTION:Pour les enfants de 4 à 11 ans\, durant les messes de l’Avent\, une découverte avec les mots des enfants de l’évangile de la messe.\n\n\n\nDurant les messes de l’Avent\, les enfants suivent un animateur/trice pour découvrir le texte de l’évangile du dimanche avec des mots adaptés et une animation. Ainsi\, ils préparent leur cœur à accueillir la lumière de lumière de Noël\, dimanche après dimanche. \n\n\n\nVenez simplement à la messe avec eux\, et les enfants seront appelés en début de messe pour se rendre dans une salle voisine et revenir à la messe pour la consécration ou le Notre Père. \n\n\n\nAucune inscription n’est nécessaire. \n\n\n\nDates: \n\n\n\n\nSa 20 décembre 17h30 au Châble\n\n\n\nDi 21 décembre 9h30 au Levron
URL:https://lesparoisses.ch/event/atelier-de-la-parole-4/
LOCATION:Église du Châble\, Chem. de l'Église 15\, Le Châble\, Valais\, 1934\, Suisse
CATEGORIES:Bagnes-Vollèges-Verbier,Enfant,Noël,Sacrements
ATTACH;FMTTYPE=image/jpeg:https://lesparoisses.ch/wp-content/uploads/2021/10/eveil_foi_L.jpg
END:VEVENT
END:VCALENDAR