BEGIN:VCALENDAR
VERSION:2.0
PRODID:-//Les Paroisses - ECPv6.15.17.1//NONSGML v1.0//EN
CALSCALE:GREGORIAN
METHOD:PUBLISH
X-WR-CALNAME:Les Paroisses
X-ORIGINAL-URL:https://lesparoisses.ch
X-WR-CALDESC:Évènements pour Les Paroisses
REFRESH-INTERVAL;VALUE=DURATION:PT1H
X-Robots-Tag:noindex
X-PUBLISHED-TTL:PT1H
BEGIN:VTIMEZONE
TZID:Europe/Paris
BEGIN:DAYLIGHT
TZOFFSETFROM:+0100
TZOFFSETTO:+0200
TZNAME:CEST
DTSTART:20240331T010000
END:DAYLIGHT
BEGIN:STANDARD
TZOFFSETFROM:+0200
TZOFFSETTO:+0100
TZNAME:CET
DTSTART:20241027T010000
END:STANDARD
BEGIN:DAYLIGHT
TZOFFSETFROM:+0100
TZOFFSETTO:+0200
TZNAME:CEST
DTSTART:20250330T010000
END:DAYLIGHT
BEGIN:STANDARD
TZOFFSETFROM:+0200
TZOFFSETTO:+0100
TZNAME:CET
DTSTART:20251026T010000
END:STANDARD
BEGIN:DAYLIGHT
TZOFFSETFROM:+0100
TZOFFSETTO:+0200
TZNAME:CEST
DTSTART:20260329T010000
END:DAYLIGHT
BEGIN:STANDARD
TZOFFSETFROM:+0200
TZOFFSETTO:+0100
TZNAME:CET
DTSTART:20261025T010000
END:STANDARD
END:VTIMEZONE
BEGIN:VEVENT
DTSTART;TZID=Europe/Paris:20250529T100000
DTEND;TZID=Europe/Paris:20250529T120000
DTSTAMP:20260423T234632
CREATED:20250527T085631Z
LAST-MODIFIED:20250527T085633Z
UID:8548-1748512800-1748520000@lesparoisses.ch
SUMMARY:Première des communion
DESCRIPTION:En ce beau jour de l’Ascension\, la paroisse de Bagnes et Verbier fête les premiers communiants qui accueillent Jésus hostie pour la première fois ce jeudi 29 mai à 10h à l’église du Châble.  \n\n\n\nMerci de les porter dans votre prière. \n\n\n\nA Vollèges\, ce sera dimanche 1er juin à 10h à l’église de Vollèges.
URL:https://lesparoisses.ch/event/premiere-des-communion/
LOCATION:Église du Châble\, Chem. de l'Église 15\, Le Châble\, Valais\, 1934\, Suisse
CATEGORIES:Bagnes-Vollèges-Verbier,Communion,Évènements,Évènements à la UNE,Famille,Sacrements
ATTACH;FMTTYPE=image/jpeg:https://lesparoisses.ch/wp-content/uploads/2020/04/Communion_0452_L.jpg
ORGANIZER;CN="G%C3%A9rard Puippe":MAILTO:gerard@lesparoisses.ch
END:VEVENT
END:VCALENDAR