BEGIN:VCALENDAR
VERSION:2.0
PRODID:-//Les Paroisses - ECPv6.15.17.1//NONSGML v1.0//EN
CALSCALE:GREGORIAN
METHOD:PUBLISH
X-ORIGINAL-URL:https://lesparoisses.ch
X-WR-CALDESC:Évènements pour Les Paroisses
REFRESH-INTERVAL;VALUE=DURATION:PT1H
X-Robots-Tag:noindex
X-PUBLISHED-TTL:PT1H
BEGIN:VTIMEZONE
TZID:Europe/Paris
BEGIN:DAYLIGHT
TZOFFSETFROM:+0100
TZOFFSETTO:+0200
TZNAME:CEST
DTSTART:20240331T010000
END:DAYLIGHT
BEGIN:STANDARD
TZOFFSETFROM:+0200
TZOFFSETTO:+0100
TZNAME:CET
DTSTART:20241027T010000
END:STANDARD
BEGIN:DAYLIGHT
TZOFFSETFROM:+0100
TZOFFSETTO:+0200
TZNAME:CEST
DTSTART:20250330T010000
END:DAYLIGHT
BEGIN:STANDARD
TZOFFSETFROM:+0200
TZOFFSETTO:+0100
TZNAME:CET
DTSTART:20251026T010000
END:STANDARD
BEGIN:DAYLIGHT
TZOFFSETFROM:+0100
TZOFFSETTO:+0200
TZNAME:CEST
DTSTART:20260329T010000
END:DAYLIGHT
BEGIN:STANDARD
TZOFFSETFROM:+0200
TZOFFSETTO:+0100
TZNAME:CET
DTSTART:20261025T010000
END:STANDARD
END:VTIMEZONE
BEGIN:VEVENT
DTSTART;TZID=Europe/Paris:20251129T173000
DTEND;TZID=Europe/Paris:20251129T183000
DTSTAMP:20260423T144831
CREATED:20251127T093409Z
LAST-MODIFIED:20251127T093411Z
UID:8996-1764437400-1764441000@lesparoisses.ch
SUMMARY:Ateliers de la Parole
DESCRIPTION:Pour les enfants de 4 à 11 ans\, durant les messes de l’Avent\, une découverte avec les mots des enfants de l’évangile de la messe.\n\n\n\nDurant les messes de l’Avent\, les enfants suivent un animateur/trice pour découvrir le texte de l’évangile du dimanche avec des mots adaptés et une animation. Ainsi\, ils préparent leur cœur à accueillir la lumière de lumière de Noël\, dimanche après dimanche. \n\n\n\nVenez simplement à la messe avec eux\, et les enfants seront appelés en début de messe pour se rendre dans une salle voisine et revenir à la messe pour la consécration ou le Notre Père. \n\n\n\nAucune inscription n’est nécessaire. \n\n\n\nDates: \n\n\n\n\nSa 29 novembre 17h30 au Châble\n\n\n\nSa 6 décembre 17h30 au Châble\n\n\n\nDi 7 décembre 9h30 au Levron\n\n\n\nLu 8 décembre 10h30 au Châble (Immaculée conception de Marie)\n\n\n\nSa 13 décembre 17h30 au Châble \n\n\n\nDi 14 décembre 18h à Vollèges\n\n\n\nSa 20 décembre 17h30 au Châble\n\n\n\nDi 21 décembre 9h30 au Levron
URL:https://lesparoisses.ch/event/ateliers-de-la-parole/
LOCATION:Église du Châble\, Chem. de l'Église 15\, Le Châble\, Valais\, 1934\, Suisse
CATEGORIES:Bagnes-Vollèges-Verbier,Enfant,Évènements,Évènements à la UNE,Noël,Sacrements
ATTACH;FMTTYPE=image/jpeg:https://lesparoisses.ch/wp-content/uploads/2021/10/eveil_foi_tout.jpg
ORGANIZER;CN="G%C3%A9rard Puippe":MAILTO:gerard@lesparoisses.ch
END:VEVENT
BEGIN:VEVENT
DTSTART;TZID=Europe/Paris:20251130T143000
DTEND;TZID=Europe/Paris:20251130T180000
DTSTAMP:20260423T144831
CREATED:20251107T090303Z
LAST-MODIFIED:20251127T174418Z
UID:8944-1764513000-1764525600@lesparoisses.ch
SUMMARY:Inauguration cure du Châble
DESCRIPTION:Cela fait plus d’une année que les déménagements ont débutés à la cure du Châble. Les travaux se terminent et le comité est heureux de vous faire découvrir la réalisation terminée. \n\n\n\nLa maison de la paroisse\n\n\n\nAu-delà d’un lieu d’habitation pour le curé (qui se réjouit d’y ouvrir enfin ses cartons) c’est bien d’un lieu d’accueil et de vie pour les paroissiens de Bagnes qui nous est présenté. Et de la vie il y en aura lors de l’inauguration du 30 novembre 2025. \n\n\n\n\n\n\n\n\nFilm\n\n\n\ncrêpes\n\n\n\nfabrication de sa couronne de l’Avent pour les enfants (15h ou 16h) – inscription souhaitée avec le formulaire ci-après\n\n\n\nquizz découverte\n\n\n\nChant\n\n\n\nBénédiction\n\n\n\nBoissons chaudes et froides\n\n\n\n\n11h30              une première découverte après la messe de 10h30 autour d’un café ou d’un verre \n\n\n\ndès 14h30      des animations l’après-midi  \n\n\n\n17h                  bénédiction de la cure autour du feu \n\n\n\n17h30             jus de pomme chaud et vin chaud agrémentés par quelques chants \n\n\n\n\n\n\n\nInscription pour la fabrication de sa couronne\n\n\n\n\n  \n\n\n\n Votre nom et prénom\n \n \n Votre e-mail\n \n Votre téléphone\n \n \nNombre d'enfants\n\nAge du ou des enfants\n3-7 ans8-10 ans11-16 ans\n \nHoraire 15h16h\n \n Votre message (facultatif)\n \n \n\n Δ
URL:https://lesparoisses.ch/event/inauguration-cure-du-chable/
LOCATION:cure du Châble\, Chemin de l'Église 11\, 1934 Le Châble\, Switzerland
CATEGORIES:Bagnes-Vollèges-Verbier,Évènements,Évènements à la UNE,Famille,Fête
ORGANIZER;CN="Les paroisses":MAILTO:info@lesparoisses.ch
END:VEVENT
END:VCALENDAR