BEGIN:VCALENDAR
VERSION:2.0
PRODID:-//Les Paroisses - ECPv6.15.17.1//NONSGML v1.0//EN
CALSCALE:GREGORIAN
METHOD:PUBLISH
X-ORIGINAL-URL:https://lesparoisses.ch
X-WR-CALDESC:Évènements pour Les Paroisses
REFRESH-INTERVAL;VALUE=DURATION:PT1H
X-Robots-Tag:noindex
X-PUBLISHED-TTL:PT1H
BEGIN:VTIMEZONE
TZID:Europe/Paris
BEGIN:DAYLIGHT
TZOFFSETFROM:+0100
TZOFFSETTO:+0200
TZNAME:CEST
DTSTART:20250330T010000
END:DAYLIGHT
BEGIN:STANDARD
TZOFFSETFROM:+0200
TZOFFSETTO:+0100
TZNAME:CET
DTSTART:20251026T010000
END:STANDARD
BEGIN:DAYLIGHT
TZOFFSETFROM:+0100
TZOFFSETTO:+0200
TZNAME:CEST
DTSTART:20260329T010000
END:DAYLIGHT
BEGIN:STANDARD
TZOFFSETFROM:+0200
TZOFFSETTO:+0100
TZNAME:CET
DTSTART:20261025T010000
END:STANDARD
BEGIN:DAYLIGHT
TZOFFSETFROM:+0100
TZOFFSETTO:+0200
TZNAME:CEST
DTSTART:20270328T010000
END:DAYLIGHT
BEGIN:STANDARD
TZOFFSETFROM:+0200
TZOFFSETTO:+0100
TZNAME:CET
DTSTART:20271031T010000
END:STANDARD
END:VTIMEZONE
BEGIN:VEVENT
DTSTART;TZID=Europe/Paris:20260501T203000
DTEND;TZID=Europe/Paris:20260502T190000
DTSTAMP:20260423T100830
CREATED:20260414T132551Z
LAST-MODIFIED:20260414T133755Z
UID:9605-1777667400-1777748400@lesparoisses.ch
SUMMARY:Notre-Dame de Fatima
DESCRIPTION:Nous aurons la joie d’accueillir Notre-Dame de Fatima dans la paroisse de Bagnes les 1 et 2 mai pour un temps de prière pour la paix.
URL:https://lesparoisses.ch/event/notre-dame-de-fatima/
LOCATION:Église du Châble\, Chem. de l'Église 15\, Le Châble\, Valais\, 1934\, Suisse
CATEGORIES:Bagnes-Vollèges-Verbier,Évènements,Évènements à la UNE,Fête,Prière
ORGANIZER;CN="Les paroisses":MAILTO:info@lesparoisses.ch
END:VEVENT
END:VCALENDAR