BEGIN:VCALENDAR
VERSION:2.0
PRODID:-//Les Paroisses - ECPv6.15.17.1//NONSGML v1.0//EN
CALSCALE:GREGORIAN
METHOD:PUBLISH
X-WR-CALNAME:Les Paroisses
X-ORIGINAL-URL:https://lesparoisses.ch
X-WR-CALDESC:Évènements pour Les Paroisses
REFRESH-INTERVAL;VALUE=DURATION:PT1H
X-Robots-Tag:noindex
X-PUBLISHED-TTL:PT1H
BEGIN:VTIMEZONE
TZID:Europe/Paris
BEGIN:DAYLIGHT
TZOFFSETFROM:+0100
TZOFFSETTO:+0200
TZNAME:CEST
DTSTART:20250330T010000
END:DAYLIGHT
BEGIN:STANDARD
TZOFFSETFROM:+0200
TZOFFSETTO:+0100
TZNAME:CET
DTSTART:20251026T010000
END:STANDARD
BEGIN:DAYLIGHT
TZOFFSETFROM:+0100
TZOFFSETTO:+0200
TZNAME:CEST
DTSTART:20260329T010000
END:DAYLIGHT
BEGIN:STANDARD
TZOFFSETFROM:+0200
TZOFFSETTO:+0100
TZNAME:CET
DTSTART:20261025T010000
END:STANDARD
BEGIN:DAYLIGHT
TZOFFSETFROM:+0100
TZOFFSETTO:+0200
TZNAME:CEST
DTSTART:20270328T010000
END:DAYLIGHT
BEGIN:STANDARD
TZOFFSETFROM:+0200
TZOFFSETTO:+0100
TZNAME:CET
DTSTART:20271031T010000
END:STANDARD
END:VTIMEZONE
BEGIN:VEVENT
DTSTART;TZID=Europe/Paris:20260313T120000
DTEND;TZID=Europe/Paris:20260313T140000
DTSTAMP:20260423T083319
CREATED:20260216T121250Z
LAST-MODIFIED:20260216T121252Z
UID:9223-1773403200-1773410400@lesparoisses.ch
SUMMARY:Soupe de Carême - Vallée
DESCRIPTION:Partagez la soupe préparée par les élèves de Versegères. Ouvert à tous\, sans inscription. Le Carême\, c’est aussi la solidarité envers les plus démunis.\n\n\n\n2 soupes le vendredi 13 mars sur le temps de midi\, à LOURTIER & VERSEGÈRES \n\n\n\nComment pouvons-nous contribuer\, en Suisse\, au droit à une alimentation saine et à la sécurité alimentaire des personnes vivant dans les pays du Sud ? \n\n\n\n\nDans le monde\, 1 personne sur 12 souffre de la faim\, et 1 sur 3 souffre de malnutrition ou de sous-alimentation. \n\n\n\n\nLes soupes de carême sont une modeste réponse pour vers une plus grande répartition des richesses dans le monde. Les élèves de 7H y sont sensibilisés et sont heureux de vous accueillir pour y partager leur soupe\, préparée par leur soin.  \n\n\n\n\n\n\n\nQui possède des semences peut semer l’avenir.\n\n\n\nLa campagne « Semer l’avenir » est un appel à reconnaître l’importance des semences comme base de la vie et à soutenir le travail d’Action de Carême\, de l’EPER et d’Être Partenaires pour un avenir sans faim. Les lois dictées par l’économie limitent le libre accès aux semences dans le monde entier. La production paysanne de semences locales diminue de plus en plus – et avec elle leur diversité. \n\n\n\n70 % des ressources nécessaires à la production alimentaire comme la terre\, l’eau ou les combustibles sont consommées par le système alimentaire industriel\, qui ne nourrit pourtant que 30 % de la population mondiale environ. L’alimentation des 70 % restants dépend des familles paysannes\, qui produisent avec beaucoup moins de ressources.
URL:https://lesparoisses.ch/event/soupe-de-careme-vallee/
LOCATION:Salle Comballes – Lourtier\, 1948 Lourtier\, Route de Mauvoisin 361\, Lourtier\, Suisse
CATEGORIES:Solidarité
END:VEVENT
BEGIN:VEVENT
DTSTART;TZID=Europe/Paris:20260313T180000
DTEND;TZID=Europe/Paris:20260313T193000
DTSTAMP:20260423T083319
CREATED:20250304T111429Z
LAST-MODIFIED:20260217T173018Z
UID:8282-1773424800-1773430200@lesparoisses.ch
SUMMARY:Soupe de carême - Médières
DESCRIPTION:Soupe de carême le vendredi 13 mars dès 18h. Venez partager ce temps et partager un peu de ce que nous avons avec ceux qui ont moins à la salle villageoise de Médières. \n\n\n\n\n\n\n\nLa récolte est en faveur de l’Action de carême et Pain pour le Prochain et particulièrement pour le projet en faveur du Kenya pour renforcer la sécurité alimentaire par la solidarité au sein des villages.
URL:https://lesparoisses.ch/event/soupe-de-careme-medieres/
CATEGORIES:Évènements,Évènements à la UNE,Oecuménique,Solidarité
ATTACH;FMTTYPE=image/jpeg:https://lesparoisses.ch/wp-content/uploads/2025/03/soupe_photoAC2-e1741085199634.jpg
END:VEVENT
BEGIN:VEVENT
DTSTART;TZID=Europe/Paris:20260326T120000
DTEND;TZID=Europe/Paris:20260326T130000
DTSTAMP:20260423T083319
CREATED:20250304T110638Z
LAST-MODIFIED:20260217T173036Z
UID:8278-1774526400-1774530000@lesparoisses.ch
SUMMARY:Soupe de carême - Bruson
DESCRIPTION:Soupe de carême le jeudi 26 mars dès 12h. La soupe est préparée par les élèves de 7H sera servie dans le hall de la salle de gym. Venez partager ce temps et partager un peu de ce que nous avons avec ceux qui ont moins.. \n\n\n\n\n\n\n\nla récolte est en faveur de l’Action de carême et Pain pour le Prochain et particulièrement pour le projet en faveur du Kenya pour renforcer la sécurité alimentaire par la solidarité au sein des villages.  \n\n\n\nPartagez la soupe préparée par les élèves de Bruson. Ouvert à tous\, sans inscription. Le Carême\, c’est aussi la solidarité envers les plus démunis.\n\n\n\nComment pouvons-nous contribuer\, en Suisse\, au droit à une alimentation saine et à la sécurité alimentaire des personnes vivant dans les pays du Sud ? \n\n\n\n\nDans le monde\, 1 personne sur 12 souffre de la faim\, et 1 sur 3 souffre de malnutrition ou de sous-alimentation. \n\n\n\n\nLes soupes de carême sont une modeste réponse pour vers une plus grande répartition des richesses dans le monde. Les élèves de 7H y sont sensibilisés et sont heureux de vous accueillir pour y partager leur soupe\, préparée par leur soin. 
URL:https://lesparoisses.ch/event/soupe-de-careme-bruson-2/
LOCATION:Hall salle polyvalente – Bruson\, Chemin du Planchamps 2\, 1934 Bruson\, Bruson\, Suisse
CATEGORIES:Évènements,Évènements à la UNE,Famille,Oecuménique,Solidarité
ATTACH;FMTTYPE=image/jpeg:https://lesparoisses.ch/wp-content/uploads/2025/03/soupe_photoAC2-e1741085199634.jpg
END:VEVENT
BEGIN:VEVENT
DTSTART;TZID=Europe/Paris:20260328T110000
DTEND;TZID=Europe/Paris:20260328T140000
DTSTAMP:20260423T083319
CREATED:20250304T102327Z
LAST-MODIFIED:20260217T172613Z
UID:8266-1774695600-1774706400@lesparoisses.ch
SUMMARY:Soupe de Carême - LEVRON
DESCRIPTION:Soupe de carême au Levron le samedi 28 mars. La soupe est précédée du chemin de croix à l’église à 11h. Venez partager ce temps et partager un peu de ce que nous avons avec ceux qui ont moins. \n\n\n\n\n\n\n\nla récolte est en faveur de l’Action de carême et Pain pour le Prochain et particulièrement pour le projet en faveur du Kenya pour renforcer la sécurité alimentaire par la solidarité au sein des villages.  \n\n\n\nPartagez la soupe ouverte à tous\, sans inscription. Le Carême\, c’est aussi la solidarité envers les plus démunis.\n\n\n\nComment pouvons-nous contribuer\, en Suisse\, au droit à une alimentation saine et à la sécurité alimentaire des personnes vivant dans les pays du Sud ? \n\n\n\n\nDans le monde\, 1 personne sur 12 souffre de la faim\, et 1 sur 3 souffre de malnutrition ou de sous-alimentation. \n\n\n\n\nLes soupes de carême sont une modeste réponse pour vers une plus grande répartition des richesses dans le monde. 
URL:https://lesparoisses.ch/event/soupe-de-careme-levron/
LOCATION:Eglise du Levron\, Route de L'Ousse\, Le Levron\, 1942\, Suisse
CATEGORIES:Famille,Oecuménique,Solidarité
ATTACH;FMTTYPE=image/jpeg:https://lesparoisses.ch/wp-content/uploads/2025/03/soupe_photoAC2-e1741085199634.jpg
END:VEVENT
BEGIN:VEVENT
DTSTART;TZID=Europe/Paris:20260330T120000
DTEND;TZID=Europe/Paris:20260330T130000
DTSTAMP:20260423T083319
CREATED:20250304T101947Z
LAST-MODIFIED:20260217T172121Z
UID:8263-1774872000-1774875600@lesparoisses.ch
SUMMARY:Soupe de carême - Vollèges
DESCRIPTION:Soupe de carême à la salle du Casino de Vollèges le lundi 30 mars dès 12h. La soupe est préparée par les élèves de 7H. Venez partager ce temps et partager un peu de ce que nous avons avec ceux qui ont moins. \n\n\n\n\n\n\n\nla récolte est en faveur de l’Action de carême et Pain pour le Prochain et particulièrement pour les projets en faveur du Kenya pour renforcer la sécurité alimentaire par la solidarité au sein des villages.  \n\n\n\nComment pouvons-nous contribuer\, en Suisse\, au droit à une alimentation saine et à la sécurité alimentaire des personnes vivant dans les pays du Sud ?\n\n\n\n\nDans le monde\, 1 personne sur 12 souffre de la faim\, et 1 sur 3 souffre de malnutrition ou de sous-alimentation. \n\n\n\n\nLes soupes de carême sont une modeste réponse pour vers une plus grande répartition des richesses dans le monde. Les élèves de 7H y sont sensibilisés et sont heureux de vous accueillir pour y partager leur soupe\, préparée par leur soin. 
URL:https://lesparoisses.ch/event/soupe-de-careme/
LOCATION:salle du Casino\, Rte du Levron\, Vollèges\, 1934 Vollèges\, Suisse
CATEGORIES:Évènements,Évènements à la UNE,Famille,Oecuménique,Solidarité
ATTACH;FMTTYPE=image/jpeg:https://lesparoisses.ch/wp-content/uploads/2025/03/soupe_photoAC2-e1741085199634.jpg
ORGANIZER;CN="G%C3%A9rard Puippe":MAILTO:gerard@lesparoisses.ch
END:VEVENT
END:VCALENDAR